BEGIN:VCALENDAR
VERSION:2.0
PRODID:-//wp-events-plugin.com//6.4.6.4//EN
TZID:Europe/Paris
X-WR-TIMEZONE:Europe/Paris
BEGIN:VEVENT
UID:5@maranatha.be
DTSTART;TZID=Europe/Paris:20230816T000000
DTEND;TZID=Europe/Paris:20230816T000000
DTSTAMP:20230519T222823Z
URL:https://maranatha.be/events/reservation-car-pele-b-b/
SUMMARY:Réservation car pélé B-B
DESCRIPTION:
CATEGORIES:Pèlerinage
END:VEVENT
BEGIN:VTIMEZONE
TZID:Europe/Paris
X-LIC-LOCATION:Europe/Paris
BEGIN:DAYLIGHT
DTSTART:20230326T030000
TZOFFSETFROM:+0100
TZOFFSETTO:+0200
TZNAME:CEST
END:DAYLIGHT
END:VTIMEZONE
END:VCALENDAR